BEGIN:VCALENDAR
VERSION:2.0
PRODID:-//Acqua-Dent - ECPv6.15.20//NONSGML v1.0//EN
CALSCALE:GREGORIAN
METHOD:PUBLISH
X-ORIGINAL-URL:http://acqua-dent.com
X-WR-CALDESC:Events for Acqua-Dent
REFRESH-INTERVAL;VALUE=DURATION:PT1H
X-Robots-Tag:noindex
X-PUBLISHED-TTL:PT1H
BEGIN:VTIMEZONE
TZID:UTC
BEGIN:STANDARD
TZOFFSETFROM:+0000
TZOFFSETTO:+0000
TZNAME:UTC
DTSTART:20240101T000000
END:STANDARD
END:VTIMEZONE
BEGIN:VEVENT
DTSTART;TZID=UTC:20250225T110000
DTEND;TZID=UTC:20250225T123000
DTSTAMP:20260421T082850
CREATED:20250224T154052Z
LAST-MODIFIED:20250224T160919Z
UID:10000004-1740481200-1740486600@acqua-dent.com
SUMMARY:PG Scans Booked
DESCRIPTION:
URL:http://acqua-dent.com/event/unavailable/
CATEGORIES:PG Scans Booked
END:VEVENT
BEGIN:VEVENT
DTSTART;TZID=UTC:20250226T080000
DTEND;TZID=UTC:20250226T170000
DTSTAMP:20260421T082850
CREATED:20250224T154141Z
LAST-MODIFIED:20250224T154214Z
UID:10000005-1740556800-1740589200@acqua-dent.com
SUMMARY:Unavailable
DESCRIPTION:
URL:http://acqua-dent.com/event/unavailable-2/
CATEGORIES:Surgery Booked
END:VEVENT
BEGIN:VEVENT
DTSTART;TZID=UTC:20250227T090000
DTEND;TZID=UTC:20250227T110000
DTSTAMP:20260421T082850
CREATED:20250224T154304Z
LAST-MODIFIED:20250224T155840Z
UID:10000006-1740646800-1740654000@acqua-dent.com
SUMMARY:Unavailable
DESCRIPTION:
URL:http://acqua-dent.com/event/unavailable-3/
CATEGORIES:Surgery Booked
END:VEVENT
END:VCALENDAR